BEGIN:VCALENDAR
VERSION:2.0
PRODID:-//South African Sports Coaching Association - ECPv6.2.0.1//NONSGML v1.0//EN
CALSCALE:GREGORIAN
METHOD:PUBLISH
X-WR-CALNAME:South African Sports Coaching Association
X-ORIGINAL-URL:https://sasca-pb.co.za
X-WR-CALDESC:Events for South African Sports Coaching Association
REFRESH-INTERVAL;VALUE=DURATION:PT1H
X-Robots-Tag:noindex
X-PUBLISHED-TTL:PT1H
BEGIN:VTIMEZONE
TZID:UTC
BEGIN:STANDARD
TZOFFSETFROM:+0000
TZOFFSETTO:+0000
TZNAME:UTC
DTSTART:20200101T000000
END:STANDARD
END:VTIMEZONE
BEGIN:VEVENT
DTSTART;TZID=UTC:20200819T100000
DTEND;TZID=UTC:20200819T120000
DTSTAMP:20260422T220005
CREATED:20200708T060713Z
LAST-MODIFIED:20200708T060713Z
UID:1414-1597831200-1597838400@sasca-pb.co.za
SUMMARY:Inaugural Lecture: The Sport Governance Conundrum
DESCRIPTION:Join us on 19 August 2020 for an Exclusive Inaugural Lecture presented by Prof Paul Singh!\n\n\n\n\n\n\n\n\n\n\n\n\n\n\n\n\n\n\n\n\n\n\n\n\n\n\n\n\n\n\n\n\n\n\n\n\n\n\n\n\n\nThe governance of sport in South Africa in the democratic era has been plagued by bad governance. Numerous scandals\, shenanigans\, power struggles and boardroom challenges involving managers and directors at various levels of the sport hierarchy have brought the noble values associated with sport into question.\n\nThe very integrity and sustainability of our sport is at risk. In the context of the current challenges\, the VUCA world demands for innovation and change\, the Covid-19 pandemic and emerging challenges to the governance of sport at national level requires a fresh\, scientific\, context-specific\, agile response and visionary and ethical leadership.\n\nIssues of gender equality\, doping\, sexual harassment and the need for safeguarding participants\, financial mismanagement\, stadium safety\, high turn-over of coaches\, legal issues\, marketing and sponsorship challenges will be viewed through the lens of the Da Vinci TIPS™ Framework by a practitioner\, academic\, and researcher with over 40 years of experience in the SA sport industry.* Your Zoom link for the Inaugural Lecture will be sent to you post-registration\, closer to the event date.\n\nDATE: 19 August 2020 \nTIME: 10am-12pm \nYour Zoom link for the Inaugural Lecture will be sent to you post-registration\n\n\n\n\n\n\nRegister here to attend
URL:https://sasca-pb.co.za/event/inaugural-lecture-the-sport-governance-conundrum/
END:VEVENT
BEGIN:VEVENT
DTSTART;TZID=UTC:20200714T160000
DTEND;TZID=UTC:20200714T170000
DTSTAMP:20260422T220005
CREATED:20200617T064705Z
LAST-MODIFIED:20200617T064705Z
UID:1368-1594742400-1594746000@sasca-pb.co.za
SUMMARY:Free Safeguarding United webinar
DESCRIPTION:You are invited to a two-part FREE webinar brought to you by Safe Sport International and the Safeguarding Unit at London law firm Farrer & Co. They will be held on 7 and 14 July. \nThe themes will be on how academic research can inform good safeguarding practice. Professor Emerita Kari Fasting will first discuss ‘what we know about non accidental violence in sport’\, Prof Bettina Rulofs will share her recent research on German athletes’ experiences and their designated sexual violence commissioner roles\, and Adele \nEastman will present the Safeguarding Unit’s ground breaking guidance on the importance of sharing low level concerns. We will post details on the second webinar in due course. \nClick here to access the event’s details \nClick below to access the registration details here \nRegister here for the two-part webinar \n 
URL:https://sasca-pb.co.za/event/free-safeguarding-united-webinar/
END:VEVENT
BEGIN:VEVENT
DTSTART;TZID=UTC:20200707T160000
DTEND;TZID=UTC:20200707T170000
DTSTAMP:20260422T220005
CREATED:20200624T145213Z
LAST-MODIFIED:20200624T145213Z
UID:1391-1594137600-1594141200@sasca-pb.co.za
SUMMARY:Safeguarding In Sport Webinar Series
DESCRIPTION:Safeguarding in Sport Webinar
URL:https://sasca-pb.co.za/event/safeguarding-in-sport-webinar-series/
END:VEVENT
BEGIN:VEVENT
DTSTART;TZID=UTC:20200707T080000
DTEND;TZID=UTC:20200707T170000
DTSTAMP:20260422T220005
CREATED:20200617T064334Z
LAST-MODIFIED:20200617T064612Z
UID:1366-1594108800-1594141200@sasca-pb.co.za
SUMMARY:Free Safeguarding Unit webinar
DESCRIPTION:You are invited to a two-part FREE webinar brought to you by Safe Sport International and the Safeguarding Unit at London law firm Farrer & Co. They will be held on 7 and 14 July. \nThe themes will be on how academic research can inform good safeguarding practice. Professor Emerita Kari Fasting will first discuss ‘what we know about non accidental violence in sport’\, Prof Bettina Rulofs will share her recent research on German athletes’ experiences and their designated sexual violence commissioner roles\, and Adele \nEastman will present the Safeguarding Unit’s ground breaking guidance on the importance of sharing low level concerns. We will post details on the second webinar in due course. \nClick here to access the event’s details \nClick below to access the registration details here \nRegister here for the two-part webinar \n 
URL:https://sasca-pb.co.za/event/free-safeguarding-unit-webinar/
END:VEVENT
BEGIN:VEVENT
DTSTART;TZID=UTC:20200623T140000
DTEND;TZID=UTC:20200623T150000
DTSTAMP:20260422T220005
CREATED:20200619T043622Z
LAST-MODIFIED:20200619T043622Z
UID:1373-1592920800-1592924400@sasca-pb.co.za
SUMMARY:NCDA Webinar for Coach Developers
DESCRIPTION:Register for FREE coach developers webinar \n \n  \n 
URL:https://sasca-pb.co.za/event/ncda-webinar-for-coach-developers/
END:VEVENT
BEGIN:VEVENT
DTSTART;VALUE=DATE:20200615
DTEND;VALUE=DATE:20200616
DTSTAMP:20260422T220005
CREATED:20200415T090826Z
LAST-MODIFIED:20200522T080551Z
UID:676-1592179200-1592265599@sasca-pb.co.za
SUMMARY:Inaugural AGM
DESCRIPTION:
URL:https://sasca-pb.co.za/event/inaugural-agm/
END:VEVENT
BEGIN:VEVENT
DTSTART;VALUE=DATE:20200609
DTEND;VALUE=DATE:20200610
DTSTAMP:20260422T220005
CREATED:20200415T090709Z
LAST-MODIFIED:20200415T090709Z
UID:670-1591660800-1591747199@sasca-pb.co.za
SUMMARY:Financial management for sports coaches
DESCRIPTION:
URL:https://sasca-pb.co.za/event/financial-management-for-sports-coaches-2/
END:VEVENT
BEGIN:VEVENT
DTSTART;TZID=UTC:20200528T150000
DTEND;TZID=UTC:20200528T160000
DTSTAMP:20260422T220005
CREATED:20200522T080736Z
LAST-MODIFIED:20200522T080736Z
UID:1120-1590678000-1590681600@sasca-pb.co.za
SUMMARY:ICCE Connect Webinar
DESCRIPTION:
URL:https://sasca-pb.co.za/event/icce-connect-webinar/
END:VEVENT
BEGIN:VEVENT
DTSTART;TZID=UTC:20200507T130000
DTEND;TZID=UTC:20200507T130000
DTSTAMP:20260422T220005
CREATED:20200504T072058Z
LAST-MODIFIED:20200504T072058Z
UID:815-1588856400-1588856400@sasca-pb.co.za
SUMMARY:ICCE Webinar
DESCRIPTION:
URL:https://sasca-pb.co.za/event/icce-webinar/
END:VEVENT
BEGIN:VEVENT
DTSTART;VALUE=DATE:20200507
DTEND;VALUE=DATE:20200508
DTSTAMP:20260422T220005
CREATED:20200415T090756Z
LAST-MODIFIED:20200415T090756Z
UID:674-1588809600-1588895999@sasca-pb.co.za
SUMMARY:Sports Coaching Charter
DESCRIPTION:
URL:https://sasca-pb.co.za/event/sports-coaching-charter-2/
END:VEVENT
BEGIN:VEVENT
DTSTART;VALUE=DATE:20200424
DTEND;VALUE=DATE:20200425
DTSTAMP:20260422T220005
CREATED:20200415T090728Z
LAST-MODIFIED:20200415T090737Z
UID:672-1587686400-1587772799@sasca-pb.co.za
SUMMARY:Sports Coaching Charter
DESCRIPTION:
URL:https://sasca-pb.co.za/event/sports-coaching-charter/
END:VEVENT
BEGIN:VEVENT
DTSTART;VALUE=DATE:20200420
DTEND;VALUE=DATE:20200421
DTSTAMP:20260422T220005
CREATED:20200415T090642Z
LAST-MODIFIED:20200415T090642Z
UID:668-1587340800-1587427199@sasca-pb.co.za
SUMMARY:Financial management for sports coaches
DESCRIPTION:
URL:https://sasca-pb.co.za/event/financial-management-for-sports-coaches/
END:VEVENT
BEGIN:VEVENT
DTSTART;VALUE=DATE:20200416
DTEND;VALUE=DATE:20200417
DTSTAMP:20260422T220005
CREATED:20200415T090626Z
LAST-MODIFIED:20200415T090626Z
UID:666-1586995200-1587081599@sasca-pb.co.za
SUMMARY:Sports Coaches national meeting
DESCRIPTION:
URL:https://sasca-pb.co.za/event/sports-coaches-national-meeting/
END:VEVENT
BEGIN:VEVENT
DTSTART;VALUE=DATE:20200415
DTEND;VALUE=DATE:20200416
DTSTAMP:20260422T220005
CREATED:20200415T090609Z
LAST-MODIFIED:20200415T090609Z
UID:664-1586908800-1586995199@sasca-pb.co.za
SUMMARY:ICCE- Webinar- ‘Athlete centered coaching’
DESCRIPTION:
URL:https://sasca-pb.co.za/event/icce-webinar-athlete-centered-coaching/
END:VEVENT
BEGIN:VEVENT
DTSTART;VALUE=DATE:20200409
DTEND;VALUE=DATE:20200410
DTSTAMP:20260422T220005
CREATED:20200415T090542Z
LAST-MODIFIED:20200415T090542Z
UID:662-1586390400-1586476799@sasca-pb.co.za
SUMMARY:RPL- Sub-committee selection for Assessors and Moderators
DESCRIPTION:
URL:https://sasca-pb.co.za/event/rpl-sub-committee-selection-for-assessors-and-moderators/
END:VEVENT
BEGIN:VEVENT
DTSTART;VALUE=DATE:20200406
DTEND;VALUE=DATE:20200407
DTSTAMP:20260422T220005
CREATED:20200415T090521Z
LAST-MODIFIED:20200415T090521Z
UID:660-1586131200-1586217599@sasca-pb.co.za
SUMMARY:Coach Developer- Online national meeting
DESCRIPTION:
URL:https://sasca-pb.co.za/event/coach-developer-online-national-meeting-2/
END:VEVENT
BEGIN:VEVENT
DTSTART;VALUE=DATE:20200401
DTEND;VALUE=DATE:20200402
DTSTAMP:20260422T220005
CREATED:20200415T090458Z
LAST-MODIFIED:20200415T090458Z
UID:658-1585699200-1585785599@sasca-pb.co.za
SUMMARY:Coach Developer-online national meeting
DESCRIPTION:
URL:https://sasca-pb.co.za/event/coach-developer-online-national-meeting/
END:VEVENT
END:VCALENDAR